BEGIN:VCALENDAR
VERSION:2.0
PRODID:-//Kindergarten Schatzinsel Itzehoe - ECPv6.15.20//NONSGML v1.0//EN
CALSCALE:GREGORIAN
METHOD:PUBLISH
X-ORIGINAL-URL:https://kiga-schatzinsel.net
X-WR-CALDESC:Veranstaltungen für Kindergarten Schatzinsel Itzehoe
REFRESH-INTERVAL;VALUE=DURATION:PT1H
X-Robots-Tag:noindex
X-PUBLISHED-TTL:PT1H
BEGIN:VTIMEZONE
TZID:Europe/Berlin
BEGIN:DAYLIGHT
TZOFFSETFROM:+0100
TZOFFSETTO:+0200
TZNAME:CEST
DTSTART:20230326T010000
END:DAYLIGHT
BEGIN:STANDARD
TZOFFSETFROM:+0200
TZOFFSETTO:+0100
TZNAME:CET
DTSTART:20231029T010000
END:STANDARD
BEGIN:DAYLIGHT
TZOFFSETFROM:+0100
TZOFFSETTO:+0200
TZNAME:CEST
DTSTART:20240331T010000
END:DAYLIGHT
BEGIN:STANDARD
TZOFFSETFROM:+0200
TZOFFSETTO:+0100
TZNAME:CET
DTSTART:20241027T010000
END:STANDARD
BEGIN:DAYLIGHT
TZOFFSETFROM:+0100
TZOFFSETTO:+0200
TZNAME:CEST
DTSTART:20250330T010000
END:DAYLIGHT
BEGIN:STANDARD
TZOFFSETFROM:+0200
TZOFFSETTO:+0100
TZNAME:CET
DTSTART:20251026T010000
END:STANDARD
BEGIN:DAYLIGHT
TZOFFSETFROM:+0100
TZOFFSETTO:+0200
TZNAME:CEST
DTSTART:20260329T010000
END:DAYLIGHT
BEGIN:STANDARD
TZOFFSETFROM:+0200
TZOFFSETTO:+0100
TZNAME:CET
DTSTART:20261025T010000
END:STANDARD
BEGIN:DAYLIGHT
TZOFFSETFROM:+0100
TZOFFSETTO:+0200
TZNAME:CEST
DTSTART:20270328T010000
END:DAYLIGHT
BEGIN:STANDARD
TZOFFSETFROM:+0200
TZOFFSETTO:+0100
TZNAME:CET
DTSTART:20271031T010000
END:STANDARD
END:VTIMEZONE
BEGIN:VEVENT
DTSTART;VALUE=DATE:20260107
DTEND;VALUE=DATE:20260108
DTSTAMP:20260425T152400
CREATED:20250503T105355Z
LAST-MODIFIED:20250516T110028Z
UID:4512-1767744000-1767830399@kiga-schatzinsel.net
SUMMARY:Erster Kita-Tag 2026
DESCRIPTION:
URL:https://kiga-schatzinsel.net/event/erster-kita-tag-2026/
LOCATION:Kindergarten Schatzinsel\, Kirchhoffstraße 2\, Itzehoe\, Schleswig-Holstein\, 25524\, Deutschland
CATEGORIES:Neujahrsbeginn in der Kita
END:VEVENT
BEGIN:VEVENT
DTSTART;VALUE=DATE:20251220
DTEND;VALUE=DATE:20260107
DTSTAMP:20260425T152400
CREATED:20250503T105125Z
LAST-MODIFIED:20250503T105125Z
UID:4510-1766188800-1767743999@kiga-schatzinsel.net
SUMMARY:Weihnachtsferien
DESCRIPTION:Die Kita bleibt in dieser Zeit geschlossen.
URL:https://kiga-schatzinsel.net/event/weihnachtsferien-3/
LOCATION:Kindergarten Schatzinsel\, Kirchhoffstraße 2\, Itzehoe\, Schleswig-Holstein\, 25524\, Deutschland
CATEGORIES:Weihnachtsferien
END:VEVENT
BEGIN:VEVENT
DTSTART;VALUE=DATE:20251111
DTEND;VALUE=DATE:20251112
DTSTAMP:20260425T152400
CREATED:20250503T104928Z
LAST-MODIFIED:20250503T104928Z
UID:4508-1762819200-1762905599@kiga-schatzinsel.net
SUMMARY:Fotograf in der Kita
DESCRIPTION:
URL:https://kiga-schatzinsel.net/event/fotograf-in-der-kita/
LOCATION:Kindergarten Schatzinsel\, Kirchhoffstraße 2\, Itzehoe\, Schleswig-Holstein\, 25524\, Deutschland
CATEGORIES:Fotograf
END:VEVENT
BEGIN:VEVENT
DTSTART;VALUE=DATE:20251106
DTEND;VALUE=DATE:20251107
DTSTAMP:20260425T152400
CREATED:20250503T104737Z
LAST-MODIFIED:20250503T104838Z
UID:4506-1762387200-1762473599@kiga-schatzinsel.net
SUMMARY:Laternenfest Seepferde
DESCRIPTION:
URL:https://kiga-schatzinsel.net/event/laternenfest-seepferde-2/
LOCATION:Kindergarten Schatzinsel\, Kirchhoffstraße 2\, Itzehoe\, Schleswig-Holstein\, 25524\, Deutschland
CATEGORIES:Laternenfest
END:VEVENT
BEGIN:VEVENT
DTSTART;VALUE=DATE:20251105
DTEND;VALUE=DATE:20251106
DTSTAMP:20260425T152400
CREATED:20250503T104653Z
LAST-MODIFIED:20250503T104653Z
UID:4504-1762300800-1762387199@kiga-schatzinsel.net
SUMMARY:Laternenfest Seehunde
DESCRIPTION:
URL:https://kiga-schatzinsel.net/event/laternenfest-seehunde-2/
LOCATION:Kindergarten Schatzinsel\, Kirchhoffstraße 2\, Itzehoe\, Schleswig-Holstein\, 25524\, Deutschland
CATEGORIES:Laternenfest
END:VEVENT
BEGIN:VEVENT
DTSTART;VALUE=DATE:20251104
DTEND;VALUE=DATE:20251105
DTSTAMP:20260425T152400
CREATED:20250503T104607Z
LAST-MODIFIED:20250929T105755Z
UID:4502-1762214400-1762300799@kiga-schatzinsel.net
SUMMARY:Laternenfest Seeschildkröte
DESCRIPTION:
URL:https://kiga-schatzinsel.net/event/laternenfest-seesterne-2/
LOCATION:Kindergarten Schatzinsel\, Kirchhoffstraße 2\, Itzehoe\, Schleswig-Holstein\, 25524\, Deutschland
CATEGORIES:Laternenfest
END:VEVENT
BEGIN:VEVENT
DTSTART;VALUE=DATE:20251015
DTEND;VALUE=DATE:20251016
DTSTAMP:20260425T152400
CREATED:20250503T104124Z
LAST-MODIFIED:20250503T104146Z
UID:4497-1760486400-1760572799@kiga-schatzinsel.net
SUMMARY:Elternvertretersitzung
DESCRIPTION:
URL:https://kiga-schatzinsel.net/event/elternvertretersitzung-3/
LOCATION:Kindergarten Schatzinsel\, Kirchhoffstraße 2\, Itzehoe\, Schleswig-Holstein\, 25524\, Deutschland
CATEGORIES:Elternvertretersitzung
END:VEVENT
BEGIN:VEVENT
DTSTART;TZID=Europe/Berlin:20251008T143000
DTEND;TZID=Europe/Berlin:20251008T180000
DTSTAMP:20260425T152400
CREATED:20250503T104413Z
LAST-MODIFIED:20250516T105701Z
UID:4500-1759933800-1759946400@kiga-schatzinsel.net
SUMMARY:Gartentag
DESCRIPTION:
URL:https://kiga-schatzinsel.net/event/gartentag-6/
LOCATION:Kindergarten Schatzinsel\, Kirchhoffstraße 2\, Itzehoe\, Schleswig-Holstein\, 25524\, Deutschland
CATEGORIES:Gartentag
END:VEVENT
BEGIN:VEVENT
DTSTART;TZID=Europe/Berlin:20250910T150000
DTEND;TZID=Europe/Berlin:20250910T163000
DTSTAMP:20260425T152400
CREATED:20250503T103908Z
LAST-MODIFIED:20250516T105446Z
UID:4495-1757516400-1757521800@kiga-schatzinsel.net
SUMMARY:Elternabend Seesterne-Gruppe
DESCRIPTION:
URL:https://kiga-schatzinsel.net/event/elternabend-seesterne-gruppe/
LOCATION:Kindergarten Schatzinsel\, Kirchhoffstraße 2\, Itzehoe\, Schleswig-Holstein\, 25524\, Deutschland
CATEGORIES:Elternabend SH, SST, SPF
END:VEVENT
BEGIN:VEVENT
DTSTART;TZID=Europe/Berlin:20250909T150000
DTEND;TZID=Europe/Berlin:20250909T163000
DTSTAMP:20260425T152400
CREATED:20250503T103810Z
LAST-MODIFIED:20250516T105411Z
UID:4493-1757430000-1757435400@kiga-schatzinsel.net
SUMMARY:Elternabend Seehunde-Gruppe
DESCRIPTION:
URL:https://kiga-schatzinsel.net/event/elternabend-seehunde-gruppe/
LOCATION:Kindergarten Schatzinsel\, Kirchhoffstraße 2\, Itzehoe\, Schleswig-Holstein\, 25524\, Deutschland
CATEGORIES:Elternabend SH, SST, SPF
END:VEVENT
BEGIN:VEVENT
DTSTART;TZID=Europe/Berlin:20250902T150000
DTEND;TZID=Europe/Berlin:20250902T163000
DTSTAMP:20260425T152400
CREATED:20250503T103229Z
LAST-MODIFIED:20250503T103703Z
UID:4490-1756825200-1756830600@kiga-schatzinsel.net
SUMMARY:Elternabend Seepferde-Gruppe
DESCRIPTION:
URL:https://kiga-schatzinsel.net/event/elternabend-seepferde-gruppe/
LOCATION:Kindergarten Schatzinsel\, Kirchhoffstraße 2\, Itzehoe\, Schleswig-Holstein\, 25524\, Deutschland
CATEGORIES:Elternabend SH, SST, SPF
END:VEVENT
BEGIN:VEVENT
DTSTART;TZID=Europe/Berlin:20250901T143000
DTEND;TZID=Europe/Berlin:20250901T170000
DTSTAMP:20260425T152400
CREATED:20250516T105050Z
LAST-MODIFIED:20250516T105050Z
UID:4515-1756737000-1756746000@kiga-schatzinsel.net
SUMMARY:Inhouseschulung der Mitarbeiter
DESCRIPTION:Seepferdchen Kinder bitte um 14:30 abholen
URL:https://kiga-schatzinsel.net/event/inhouseschulung-der-mitarbeiter/
LOCATION:Kindergarten Schatzinsel\, Kirchhoffstraße 2\, Itzehoe\, Schleswig-Holstein\, 25524\, Deutschland
CATEGORIES:Inhouseschulung
END:VEVENT
BEGIN:VEVENT
DTSTART;VALUE=DATE:20250821
DTEND;VALUE=DATE:20250822
DTSTAMP:20260425T152400
CREATED:20250503T084028Z
LAST-MODIFIED:20250503T084028Z
UID:4487-1755734400-1755820799@kiga-schatzinsel.net
SUMMARY:Sommerpicknick
DESCRIPTION:
URL:https://kiga-schatzinsel.net/event/sommerpicknick-3/
LOCATION:Kindergarten Schatzinsel\, Kirchhoffstraße 2\, Itzehoe\, Schleswig-Holstein\, 25524\, Deutschland
CATEGORIES:Sommerpicknick
END:VEVENT
BEGIN:VEVENT
DTSTART;VALUE=DATE:20250801
DTEND;VALUE=DATE:20250802
DTSTAMP:20260425T152400
CREATED:20250503T083531Z
LAST-MODIFIED:20250503T083531Z
UID:4485-1754006400-1754092799@kiga-schatzinsel.net
SUMMARY:Putztag
DESCRIPTION:Die Kita bleibt an diesem Tag geschlossen.
URL:https://kiga-schatzinsel.net/event/putztag/
LOCATION:Kindergarten Schatzinsel\, Kirchhoffstraße 2\, Itzehoe\, Schleswig-Holstein\, 25524\, Deutschland
CATEGORIES:Kita geschlossen,Putztag
END:VEVENT
BEGIN:VEVENT
DTSTART;VALUE=DATE:20250724
DTEND;VALUE=DATE:20250725
DTSTAMP:20260425T152400
CREATED:20250503T083404Z
LAST-MODIFIED:20250503T083404Z
UID:4483-1753315200-1753401599@kiga-schatzinsel.net
SUMMARY:Abschiedsfest
DESCRIPTION:
URL:https://kiga-schatzinsel.net/event/abschiedsfest/
LOCATION:Kindergarten Schatzinsel\, Kirchhoffstraße 2\, Itzehoe\, Schleswig-Holstein\, 25524\, Deutschland
CATEGORIES:Abschiedsfest Schulis
END:VEVENT
BEGIN:VEVENT
DTSTART;TZID=Europe/Berlin:20250625T143000
DTEND;TZID=Europe/Berlin:20250625T160000
DTSTAMP:20260425T152400
CREATED:20250503T083246Z
LAST-MODIFIED:20250503T083246Z
UID:4481-1750861800-1750867200@kiga-schatzinsel.net
SUMMARY:Drachen- Eltern-Nachmittag (angehende Schulkinder)
DESCRIPTION:
URL:https://kiga-schatzinsel.net/event/drachen-eltern-nachmittag-angehende-schulkinder/
LOCATION:Kindergarten Schatzinsel\, Kirchhoffstraße 2\, Itzehoe\, Schleswig-Holstein\, 25524\, Deutschland
END:VEVENT
BEGIN:VEVENT
DTSTART;VALUE=DATE:20250609
DTEND;VALUE=DATE:20250610
DTSTAMP:20260425T152400
CREATED:20250125T161453Z
LAST-MODIFIED:20250125T161530Z
UID:4330-1749427200-1749513599@kiga-schatzinsel.net
SUMMARY:Pfingstmontag
DESCRIPTION:Die Kita bleibt an diesem Tag geschlossen.
URL:https://kiga-schatzinsel.net/event/pfingstmontag/
LOCATION:Kindergarten Schatzinsel\, Kirchhoffstraße 2\, Itzehoe\, Schleswig-Holstein\, 25524\, Deutschland
CATEGORIES:Feiertag,Kita geschlossen
END:VEVENT
BEGIN:VEVENT
DTSTART;VALUE=DATE:20250530
DTEND;VALUE=DATE:20250531
DTSTAMP:20260425T152400
CREATED:20250501T174814Z
LAST-MODIFIED:20250501T175333Z
UID:4472-1748563200-1748649599@kiga-schatzinsel.net
SUMMARY:Brückentag
DESCRIPTION:Die Kita bleibt an diesem Tag geschlossen.
URL:https://kiga-schatzinsel.net/event/brueckentag-6/
LOCATION:Kindergarten Schatzinsel\, Kirchhoffstraße 2\, Itzehoe\, Schleswig-Holstein\, 25524\, Deutschland
CATEGORIES:Brückentag,Kita geschlossen
END:VEVENT
BEGIN:VEVENT
DTSTART;VALUE=DATE:20250529
DTEND;VALUE=DATE:20250530
DTSTAMP:20260425T152400
CREATED:20250125T161319Z
LAST-MODIFIED:20250125T161319Z
UID:4328-1748476800-1748563199@kiga-schatzinsel.net
SUMMARY:Christi Himmelfahrt
DESCRIPTION:Die Kita bleibt an diesem Tag geschlossen.
URL:https://kiga-schatzinsel.net/event/christi-himmelfahrt/
LOCATION:Kindergarten Schatzinsel\, Kirchhoffstraße 2\, Itzehoe\, Schleswig-Holstein\, 25524\, Deutschland
CATEGORIES:Feiertag,Kita geschlossen
END:VEVENT
BEGIN:VEVENT
DTSTART;VALUE=DATE:20250520
DTEND;VALUE=DATE:20250521
DTSTAMP:20260425T152400
CREATED:20250501T174543Z
LAST-MODIFIED:20250501T174543Z
UID:4470-1747699200-1747785599@kiga-schatzinsel.net
SUMMARY:Feuerwehrtag in der Kita
DESCRIPTION:
URL:https://kiga-schatzinsel.net/event/feuerwehrtag-in-der-kita/
LOCATION:Kindergarten Schatzinsel\, Kirchhoffstraße 2\, Itzehoe\, Schleswig-Holstein\, 25524\, Deutschland
CATEGORIES:Feuerwehrtag,Gartentag
END:VEVENT
BEGIN:VEVENT
DTSTART;VALUE=DATE:20250517
DTEND;VALUE=DATE:20250518
DTSTAMP:20260425T152400
CREATED:20250501T174243Z
LAST-MODIFIED:20250501T174243Z
UID:4468-1747440000-1747526399@kiga-schatzinsel.net
SUMMARY:Gartentag
DESCRIPTION:
URL:https://kiga-schatzinsel.net/event/gartentag-5/
LOCATION:Kindergarten Schatzinsel\, Kirchhoffstraße 2\, Itzehoe\, Schleswig-Holstein\, 25524\, Deutschland
CATEGORIES:Gartentag
END:VEVENT
BEGIN:VEVENT
DTSTART;TZID=Europe/Berlin:20250515T143000
DTEND;TZID=Europe/Berlin:20250515T153000
DTSTAMP:20260425T152400
CREATED:20250501T172952Z
LAST-MODIFIED:20250501T174430Z
UID:4466-1747319400-1747323000@kiga-schatzinsel.net
SUMMARY:Elterninformation zum Resilienz Training
DESCRIPTION:
URL:https://kiga-schatzinsel.net/event/elterninformation-zum-resilienz-training/
LOCATION:Kindergarten Schatzinsel\, Kirchhoffstraße 2\, Itzehoe\, Schleswig-Holstein\, 25524\, Deutschland
CATEGORIES:Resilienz Training
END:VEVENT
BEGIN:VEVENT
DTSTART;TZID=Europe/Berlin:20250515T080000
DTEND;TZID=Europe/Berlin:20250515T120000
DTSTAMP:20260425T152400
CREATED:20250501T172509Z
LAST-MODIFIED:20250501T174450Z
UID:4464-1747296000-1747310400@kiga-schatzinsel.net
SUMMARY:Resilienz Training Drachenkinder vormittags
DESCRIPTION:
URL:https://kiga-schatzinsel.net/event/resilienz-training-drachenkinder-vormittags/
LOCATION:Kindergarten Schatzinsel\, Kirchhoffstraße 2\, Itzehoe\, Schleswig-Holstein\, 25524\, Deutschland
CATEGORIES:Resilienz Training
END:VEVENT
BEGIN:VEVENT
DTSTART;VALUE=DATE:20250501
DTEND;VALUE=DATE:20250502
DTSTAMP:20260425T152400
CREATED:20250125T161201Z
LAST-MODIFIED:20250125T161201Z
UID:4326-1746057600-1746143999@kiga-schatzinsel.net
SUMMARY:Tag der Arbeit
DESCRIPTION:Die Kita bleibt an diesem Tag geschlossen.
URL:https://kiga-schatzinsel.net/event/tag-der-arbeit/
LOCATION:Kindergarten Schatzinsel\, Kirchhoffstraße 2\, Itzehoe\, Schleswig-Holstein\, 25524\, Deutschland
CATEGORIES:Feiertag,Kita geschlossen
END:VEVENT
BEGIN:VEVENT
DTSTART;VALUE=DATE:20250421
DTEND;VALUE=DATE:20250422
DTSTAMP:20260425T152400
CREATED:20250125T161024Z
LAST-MODIFIED:20250125T161024Z
UID:4324-1745193600-1745279999@kiga-schatzinsel.net
SUMMARY:Ostermontag
DESCRIPTION:Die Kita bleibt an diesem Tag geschlossen.
URL:https://kiga-schatzinsel.net/event/ostermontag/
LOCATION:Kindergarten Schatzinsel\, Kirchhoffstraße 2\, Itzehoe\, Schleswig-Holstein\, 25524\, Deutschland
CATEGORIES:Feiertag,Kita geschlossen
END:VEVENT
BEGIN:VEVENT
DTSTART;VALUE=DATE:20250418
DTEND;VALUE=DATE:20250419
DTSTAMP:20260425T152400
CREATED:20250125T160855Z
LAST-MODIFIED:20250125T160855Z
UID:4322-1744934400-1745020799@kiga-schatzinsel.net
SUMMARY:Karfreitag
DESCRIPTION:Die Kita bleibt an diesem Tag geschlossen.
URL:https://kiga-schatzinsel.net/event/karfreitag/
LOCATION:Kindergarten Schatzinsel\, Kirchhoffstraße 2\, Itzehoe\, Schleswig-Holstein\, 25524\, Deutschland
CATEGORIES:Feiertag,Kita geschlossen
END:VEVENT
BEGIN:VEVENT
DTSTART;VALUE=DATE:20241223
DTEND;VALUE=DATE:20250106
DTSTAMP:20260425T152400
CREATED:20240215T214548Z
LAST-MODIFIED:20240215T214754Z
UID:3837-1734912000-1736121599@kiga-schatzinsel.net
SUMMARY:Weihnachtsferien
DESCRIPTION:Die Kita bleibt in dieser Zeit  geschlossen.
URL:https://kiga-schatzinsel.net/event/weihnachtsferien-2/
LOCATION:Kindergarten Schatzinsel\, Kirchhoffstraße 2\, Itzehoe\, Schleswig-Holstein\, 25524\, Deutschland
CATEGORIES:Kita geschlossen,Weihnachtsferien
END:VEVENT
BEGIN:VEVENT
DTSTART;TZID=Europe/Berlin:20241220T080000
DTEND;TZID=Europe/Berlin:20241220T110000
DTSTAMP:20260425T152400
CREATED:20240215T222154Z
LAST-MODIFIED:20240215T222154Z
UID:3863-1734681600-1734692400@kiga-schatzinsel.net
SUMMARY:Besinnlicher Winterbrunch
DESCRIPTION:Besinnlicher Winterbrunch Kinder morgens
URL:https://kiga-schatzinsel.net/event/besinnlicher-winterbrunch-2/
LOCATION:Kindergarten Schatzinsel\, Kirchhoffstraße 2\, Itzehoe\, Schleswig-Holstein\, 25524\, Deutschland
CATEGORIES:Winterbrunch
END:VEVENT
BEGIN:VEVENT
DTSTART;VALUE=DATE:20241113
DTEND;VALUE=DATE:20241114
DTSTAMP:20260425T152400
CREATED:20240215T221643Z
LAST-MODIFIED:20241107T071634Z
UID:3862-1731456000-1731542399@kiga-schatzinsel.net
SUMMARY:Inhouseschulung Personal
DESCRIPTION:Bitte die Kinder der SPF Gruppe um 15:00 Uhr abholen.
URL:https://kiga-schatzinsel.net/event/inhouseschulung-personal/
LOCATION:Kindergarten Schatzinsel\, Kirchhoffstraße 2\, Itzehoe\, Schleswig-Holstein\, 25524\, Deutschland
CATEGORIES:Inhouseschulung
END:VEVENT
BEGIN:VEVENT
DTSTART;VALUE=DATE:20241106
DTEND;VALUE=DATE:20241107
DTSTAMP:20260425T152400
CREATED:20240215T221402Z
LAST-MODIFIED:20241105T124705Z
UID:3861-1730851200-1730937599@kiga-schatzinsel.net
SUMMARY:Laternenfest
DESCRIPTION:
URL:https://kiga-schatzinsel.net/event/laternenfest-3/
LOCATION:Kindergarten Schatzinsel\, Kirchhoffstraße 2\, Itzehoe\, Schleswig-Holstein\, 25524\, Deutschland
CATEGORIES:Laternenfest
ATTACH;FMTTYPE=image/png:https://kiga-schatzinsel.net/wp-content/uploads/2024/11/laternenfest-kindergarden.png
END:VEVENT
END:VCALENDAR